BEGIN:VCALENDAR
VERSION:2.0
PRODID:-//ChamberMaster//Event Calendar 2.0//EN
METHOD:PUBLISH
X-PUBLISHED-TTL:P3D
REFRESH-INTERVAL:P3D
CALSCALE:GREGORIAN
BEGIN:VEVENT
DTSTART:20200414T183000Z
DTEND:20200414T200000Z
X-MICROSOFT-CDO-ALLDAYEVENT:FALSE
SUMMARY:2020 04 14 April Luncheon: Peter Legge - Postponed
DESCRIPTION:April Luncheon\n\n			\n\n			Peter Legge \n\n			Best-Selling Author and Motivation Speaker\n\n			Chair\, Canada Wide Media Limited\n		\n		\n			On April 14\, join us to hear Peter Legge share insights from his "hot-off-the-press" newest book Under the Influence.\n\n			 \n\n			Peter Legge is co-founder\, chair and chief executive officer of Canada Wide Media Limited\, the largest privately-owned magazine publishing company in Western Canada   in business for 33 years and now with 55 magazines and on-line properties.\n\n			 \n\n			In addition to enjoying a long and successful career in advertising\, marketing and publishing\, Mr. Legge is an internationally acclaimed professional speaker\; a bestselling author of books on effective leadership\; and a well-known philanthropist.\n\n			 \n\n			All registered attendees will receive a copy of his book. \n\n			Peter Legge will also be available for book signing.
X-ALT-DESC;FMTTYPE=text/html:<table border="0" cellpadding="0" cellspacing="0" style="width:100.0%\;border-collapse:collapse\;" width="100%">\n	<tbody>\n		<tr>\n			<td style="padding:7.5pt 15.0pt 7.5pt 15.0pt\;vertical-align:top\;"><strong><span style="color:black\;"><span style="font-family:tahoma\,sans-serif\;">April Luncheon</span></span></strong><br />\n			<br />\n			<strong><span style="color:black\;"><span style="font-family:tahoma\,sans-serif\;"><span style="font-size:10.5pt\;">Peter Legge&nbsp\;</span></span></span></strong><br />\n			<span style="color:black\;"><span style="font-family:tahoma\,sans-serif\;"><span style="font-size:10.5pt\;">Best-Selling Author and Motivation Speaker</span></span></span><br />\n			<span style="color:black\;"><span style="font-family:tahoma\,sans-serif\;"><span style="font-size:10.5pt\;">Chair\,&nbsp\;Canada Wide Media Limited</span></span></span></td>\n		</tr>\n		<tr>\n			<td style="padding:7.5pt 15.0pt 7.5pt 15.0pt\;vertical-align:top\;"><span style="color:#4C4C4C\;"><span style="font-family:tahoma\,sans-serif\;"><span style="font-size:10.5pt\;">On April 14\, join us to hear Peter Legge share insights from his &ldquo\;hot-off-the-press&rdquo\; newest book Under the Influence.</span></span></span><br />\n			&nbsp\;<br />\n			<span style="color:#4C4C4C\;"><span style="font-family:tahoma\,sans-serif\;"><span style="font-size:10.5pt\;">Peter Legge is co-founder\, chair and chief executive officer of Canada Wide Media Limited\, the largest privately-owned magazine publishing company in Western Canada &ndash\; in business for 33 years and now with 55 magazines and on-line properties.</span></span></span><br />\n			&nbsp\;<br />\n			<span style="color:#4C4C4C\;"><span style="font-family:tahoma\,sans-serif\;"><span style="font-size:10.5pt\;">In addition to enjoying a long and successful career in advertising\, marketing and publishing\, Mr. Legge is an internationally acclaimed professional speaker\; a bestselling author of books on effective leadership\; and a well-known philanthropist.</span></span></span><br />\n			&nbsp\;<br />\n			<strong><span style="color:#4C4C4C\;"><span style="font-family:tahoma\,sans-serif\;"><span style="font-size:10.5pt\;">All registered attendees will&nbsp\;receive a copy of his book.&nbsp\;</span></span></span></strong><br />\n			<span style="color:#4C4C4C\;"><span style="font-family:tahoma\,sans-serif\;"><span style="font-size:10.5pt\;">Peter Legge will also be available for book signing.</span></span></span></td>\n		</tr>\n	</tbody>\n</table>\n
LOCATION:Elements Casino Surrey 17755 60 Avenue Cloverdale
UID:e.2359.945
SEQUENCE:3
DTSTAMP:20260426T041430Z
URL:https://business.cloverdalechamber.ca/events/details/2020-04-14-april-luncheon-peter-legge-postponed-945
END:VEVENT

END:VCALENDAR
