BEGIN:VCALENDAR
VERSION:2.0
PRODID:-//ChamberMaster//Event Calendar 2.0//EN
METHOD:PUBLISH
X-PUBLISHED-TTL:P3D
REFRESH-INTERVAL:P3D
CALSCALE:GREGORIAN
BEGIN:VEVENT
DTSTART:20200415T180000Z
DTEND:20200415T190000Z
X-MICROSOFT-CDO-ALLDAYEVENT:FALSE
SUMMARY:2020 04 15 SBOT Digital Town Hall: Your Top 10 Questions Answered – Accessing Government Support
DESCRIPTION:Online Event. Please click here for details:\n\nhttps://business.businessinsurrey.com/events/details/april-15-2020-digital-town-hall-your-top-10-questions-answered-accessing-government-supports-11025
X-ALT-DESC;FMTTYPE=text/html:<span style="font-family: Raleway\, sans-serif\; font-size: 16px\; letter-spacing: 0.5px\; background-color: rgb(249\, 249\, 249)\;">Online Event. <a href="https://business.businessinsurrey.com/events/details/april-15-2020-digital-town-hall-your-top-10-questions-answered-accessing-government-supports-11025">Please click here for details</a>:</span><br style="box-sizing: border-box\; font-family: Raleway\, sans-serif\; font-size: 16px\; letter-spacing: 0.5px\; background-color: rgb(249\, 249\, 249)\;" />\n<a href="https://business.businessinsurrey.com/events/details/april-15-2020-digital-town-hall-your-top-10-questions-answered-accessing-government-supports-11025" style="box-sizing: border-box\; background-color: rgb(249\, 249\, 249)\; color: rgb(22\, 45\, 69)\; text-decoration-line: none\; overflow-wrap: break-word\; outline: 0px\; font-family: Raleway\, sans-serif\; font-size: 16px\; letter-spacing: 0.5px\;">https://business.businessinsurrey.com/events/details/april-15-2020-digital-town-hall-your-top-10-questions-answered-accessing-government-supports-11025</a>
LOCATION:https://businessinsurrey.com/events/free-covid-19-webinars/
UID:e.2359.951
SEQUENCE:3
DTSTAMP:20260426T041537Z
URL:https://business.cloverdalechamber.ca/events/details/2020-04-15-sbot-digital-town-hall-your-top-10-questions-answered-accessing-government-support-951
END:VEVENT

END:VCALENDAR
