BEGIN:VCALENDAR
VERSION:2.0
PRODID:-//ChamberMaster//Event Calendar 2.0//EN
METHOD:PUBLISH
X-PUBLISHED-TTL:P3D
REFRESH-INTERVAL:P3D
CALSCALE:GREGORIAN
BEGIN:VEVENT
DTSTART:20200416T200000Z
DTEND:20200416T210000Z
X-MICROSOFT-CDO-ALLDAYEVENT:FALSE
SUMMARY:2020 04 16 SBOT Digital Town Hall: Your Top 10 Questions Answered – Insurance Claims\, Coverage and Considerations
DESCRIPTION:Online Event.\n\nPlease click here for details.
X-ALT-DESC;FMTTYPE=text/html:<span style="font-family: Raleway\, sans-serif\; font-size: 16px\; letter-spacing: 0.5px\; background-color: rgb(249\, 249\, 249)\;">Online Event.</span><br style="box-sizing: border-box\; font-family: Raleway\, sans-serif\; font-size: 16px\; letter-spacing: 0.5px\; background-color: rgb(249\, 249\, 249)\;" />\n<span style="font-family: Raleway\, sans-serif\; font-size: 16px\; letter-spacing: 0.5px\; background-color: rgb(249\, 249\, 249)\;"><a href="https://business.businessinsurrey.com/events/details/april-16-2020-digital-town-hall-your-top-10-questions-answered-insurance-claims-coverages-considerations-11022">Please click here for details</a>.</span><br style="box-sizing: border-box\; font-family: Raleway\, sans-serif\; font-size: 16px\; letter-spacing: 0.5px\; background-color: rgb(249\, 249\, 249)\;" />\n&nbsp\;
LOCATION:https://businessinsurrey.com/events/free-covid-19-webinars/
UID:e.2359.952
SEQUENCE:3
DTSTAMP:20260426T041538Z
URL:https://business.cloverdalechamber.ca/events/details/2020-04-16-sbot-digital-town-hall-your-top-10-questions-answered-insurance-claims-coverage-and-considerations-952
END:VEVENT

END:VCALENDAR
