BEGIN:VCALENDAR
VERSION:2.0
PRODID:-//ChamberMaster//Event Calendar 2.0//EN
METHOD:PUBLISH
X-PUBLISHED-TTL:P3D
REFRESH-INTERVAL:P3D
CALSCALE:GREGORIAN
BEGIN:VEVENT
DTSTART:20200421T200000Z
DTEND:20200421T210000Z
X-MICROSOFT-CDO-ALLDAYEVENT:FALSE
SUMMARY:2020 04 21 SBOT Digital Town Hall: Your Top 10 Questions Answered – Construction Industry & COVID-19
DESCRIPTION:Online Event.\n\nPlease click here for details.
X-ALT-DESC;FMTTYPE=text/html:<span style="font-family: Raleway\, sans-serif\; font-size: 16px\; letter-spacing: 0.5px\; background-color: rgb(249\, 249\, 249)\;">Online Event.</span><br style="box-sizing: border-box\; font-family: Raleway\, sans-serif\; font-size: 16px\; letter-spacing: 0.5px\; background-color: rgb(249\, 249\, 249)\;" />\n<span style="font-family: Raleway\, sans-serif\; font-size: 16px\; letter-spacing: 0.5px\; background-color: rgb(249\, 249\, 249)\;"><a href="https://businessinsurrey.com/events/free-covid-19-webinars/">Please click here for details</a></span><a href="https://businessinsurrey.com/events/free-covid-19-webinars/"><span style="font-family: Raleway\, sans-serif\; font-size: 16px\; letter-spacing: 0.5px\; background-color: rgb(249\, 249\, 249)\;">.</span></a><br style="box-sizing: border-box\; font-family: Raleway\, sans-serif\; font-size: 16px\; letter-spacing: 0.5px\; background-color: rgb(249\, 249\, 249)\;" />\n&nbsp\;
LOCATION:For information on more Surrey Board of Trade Events https://businessinsurrey.com/events/free-covid-19-webinars/
UID:e.2359.957
SEQUENCE:3
DTSTAMP:20260426T041546Z
URL:https://business.cloverdalechamber.ca/events/details/2020-04-21-sbot-digital-town-hall-your-top-10-questions-answered-construction-industry-covid-19-957
END:VEVENT

END:VCALENDAR
