BEGIN:VCALENDAR
VERSION:2.0
PRODID:-//ChamberMaster//Event Calendar 2.0//EN
METHOD:PUBLISH
X-PUBLISHED-TTL:P3D
REFRESH-INTERVAL:P3D
CALSCALE:GREGORIAN
BEGIN:VEVENT
DTSTART:20200424T170000Z
DTEND:20200424T180000Z
X-MICROSOFT-CDO-ALLDAYEVENT:FALSE
SUMMARY:2020 04 24 COVID Conversation Series - Securing your business
DESCRIPTION:Our panel of local experts will provide you with critical information about how you can prevent your business from becoming a crime statistic during these uncertain times. From homelessness to property crime\, our panel can give you advice on protecting your business.
X-ALT-DESC;FMTTYPE=text/html:<span style="color: rgb(76\, 76\, 76)\; font-family: Tahoma\, Geneva\, sans-serif\; font-size: 14px\; white-space: pre-wrap\;">Our panel of local experts will provide you with critical information about how you can prevent your business from becoming a crime statistic during these uncertain times.&nbsp\;From homelessness to property crime\, our panel can give you advice on protecting your business.</span>
LOCATION:Online Login information to this zoom conferance will be sent out 24 hours in advance.
UID:e.2359.958
SEQUENCE:3
DTSTAMP:20260426T041425Z
URL:https://business.cloverdalechamber.ca/events/details/2020-04-24-covid-conversation-series-securing-your-business-958
END:VEVENT

END:VCALENDAR
