BEGIN:VCALENDAR
VERSION:2.0
PRODID:-//ChamberMaster//Event Calendar 2.0//EN
METHOD:PUBLISH
X-PUBLISHED-TTL:P3D
REFRESH-INTERVAL:P3D
CALSCALE:GREGORIAN
BEGIN:VEVENT
DTSTART:20200428T170000Z
DTEND:20200428T180000Z
X-MICROSOFT-CDO-ALLDAYEVENT:FALSE
SUMMARY:2020 04 28 SBOT Digital Town Hall: Economic Update with Jock Finlayson\, Business Council of BC
DESCRIPTION:Please click here to register
X-ALT-DESC;FMTTYPE=text/html:<span style="font-size:28px\;"><span style="font-family:tahoma\;"><span style="letter-spacing: 0.5px\; background-color: rgb(249\, 249\, 249)\;"><a href="https://zoom.us/webinar/register/WN_SNMUJrDVSnSEHuMG-DIvlw">Please click here to register</a></span></span></span><br style="box-sizing: border-box\; font-family: Raleway\, sans-serif\; font-size: 16px\; letter-spacing: 0.5px\; background-color: rgb(249\, 249\, 249)\;" />\n&nbsp\;
LOCATION:For a full list of events hosted by the Surrey Board of Trade follow the link below. https://businessinsurrey.com/events/free-covid-19-webinars/
UID:e.2359.955
SEQUENCE:3
DTSTAMP:20260426T041734Z
URL:https://business.cloverdalechamber.ca/events/details/2020-04-28-sbot-digital-town-hall-economic-update-with-jock-finlayson-business-council-of-bc-955
END:VEVENT

END:VCALENDAR
