BEGIN:VCALENDAR
VERSION:2.0
PRODID:-//ChamberMaster//Event Calendar 2.0//EN
METHOD:PUBLISH
X-PUBLISHED-TTL:P3D
REFRESH-INTERVAL:P3D
CALSCALE:GREGORIAN
BEGIN:VEVENT
DTSTART:20200501T220000Z
DTEND:20200501T230000Z
X-MICROSOFT-CDO-ALLDAYEVENT:FALSE
SUMMARY:2020 05 01 COVID Conversation Series - Government Assistance
DESCRIPTION:COVID Conversation Series - Government Assistance\n\nPlease join us for the second installment of our virtual Covid Conversation series.\n\nMP Tamara Jansen\, MLA Marvin Hunt\, MLA Stephanie Cadieux and Councillor Linda Annis\n\nwill join us online and will answer your questions regarding the multitude of programs available to help support you and your business during the COVID crisis.\n\n\n\nPlease email questions in advance to Scott Wheatley @ swheatley@cloverdalechamber.ca
X-ALT-DESC;FMTTYPE=text/html:<span style="color:#0000FF\;"><span style="font-size:20px\;"><strong>COVID Conversation Series - Government Assistance</strong></span></span><br />\n<span style="font-size:16px\;"><span style="color: rgb(76\, 76\, 76)\; font-family: Tahoma\, Geneva\, sans-serif\; white-space: pre-wrap\;">Please join us for the second installment of our virtual Covid Conversation series.</span></span><br />\n<span style="font-size:16px\;"><span style="color:#0000FF\;"><span style="font-family: Tahoma\, Geneva\, sans-serif\; white-space: pre-wrap\;"><strong>MP Tamara Jansen</strong>\, <strong>MLA Marvin Hunt\, MLA Stephanie Cadieux</strong> and <strong>Councillor Linda Annis</strong></span></span></span><br />\n<span style="color: rgb(76\, 76\, 76)\; font-family: Tahoma\, Geneva\, sans-serif\; font-size: 14px\; white-space: pre-wrap\;"><span style="font-size:16px\;">will join us online and will answer your questions regarding the multitude of programs available to help support you and your business during the COVID crisis.</span><br />\n<br />\n<strong>Please email questions in advance</strong> to Scott Wheatley @ swheatley@cloverdalechamber.ca</span>
LOCATION:Online Topic: Cloverdale District Chamber of Commerce Time: May 1\, 2020 03:00 PM Vancouver Join Zoom Meeting https://us02web.zoom.us/j/86853450995 Meeting ID: 868 5345 0995 One tap mobile +14388097799\,\,86853450995# Canada +15873281099\,\,86853450995# Canada Dial by your location +1 438 809 7799 Canada +1 587 328 1099 Canada +1 647 374 4685 Canada +1 647 558 0588 Canada +1 778 907 2071 Canada Meeting ID: 868 5345 0995 Find your local number: https://us02web.zoom.us/u/knD7pQpub
UID:e.2359.963
SEQUENCE:3
DTSTAMP:20260426T024652Z
URL:https://business.cloverdalechamber.ca/events/details/2020-05-01-covid-conversation-series-government-assistance-963
END:VEVENT

END:VCALENDAR
