BEGIN:VCALENDAR
VERSION:2.0
PRODID:-//ChamberMaster//Event Calendar 2.0//EN
METHOD:PUBLISH
X-PUBLISHED-TTL:P3D
REFRESH-INTERVAL:P3D
CALSCALE:GREGORIAN
BEGIN:VEVENT
DTSTART:20200507T180000Z
DTEND:20200507T190000Z
X-MICROSOFT-CDO-ALLDAYEVENT:FALSE
SUMMARY:2020 05 07 SBOT Digital Town Hall: Your Top 10 Questions Answered – Immigration and Travel Bans
DESCRIPTION:Online Event.\n\nPlease click here for details.\n\n\n\nAmong the many impacts that COVID-19 has had on society is the fact that many businesses and service organizations are faced with a new frontier: an entirely remote workforce. The challenge of maintaining connection to your team and work is exacerbated by distance. Productivity\, processes and mental health can be strained.\n\n\n\nWhat is the best way to manage the unexpected remote workforce\, as an employer and as an employee?\n\n\n\nPanelists:\n\n	Laura Benson\, Senior Manager\, Consulting and Deals\, PwC Canada\n	Michael Anhorn\, Executive Director\, Canadian Mental Health Association - Vancouver-Fraser Branch\n	Ryan Wozniak\, Senior Vice President\, Operations and Legal\, Peninsula
X-ALT-DESC;FMTTYPE=text/html:<span style="font-family: Raleway\, sans-serif\; font-size: 16px\; letter-spacing: 0.5px\; background-color: rgb(249\, 249\, 249)\;">Online Event.</span><br style="box-sizing: border-box\; font-family: Raleway\, sans-serif\; font-size: 16px\; letter-spacing: 0.5px\; background-color: rgb(249\, 249\, 249)\;" />\n<a href="https://www.sswrchamberofcommerce.ca/events/details/sbot-digital-town-hall-your-top-10-questions-answered-immigration-and-travel-bans-2888"><span style="font-family: Raleway\, sans-serif\; font-size: 16px\; letter-spacing: 0.5px\; background-color: rgb(249\, 249\, 249)\;">Please click here for details.</span></a><br />\n<br style="box-sizing: border-box\; font-family: Raleway\, sans-serif\; font-size: 16px\; letter-spacing: 0.5px\; background-color: rgb(249\, 249\, 249)\;" />\n<span style="color: rgb(10\, 10\, 10)\; font-family: Roboto\, Univers\, &quot\;Helvetica Neue&quot\;\, Helvetica\, Arial\, sans-serif\; font-size: 16px\;">Among the many impacts that COVID-19 has had on society is the fact that many businesses and service organizations are faced with a new frontier: an entirely remote workforce. The challenge of maintaining connection to your team and work is exacerbated by distance. Productivity\, processes and mental health can be strained.</span><br style="box-sizing: content-box\; bottom: auto\; clear: none\; color: rgb(10\, 10\, 10)\; content: normal\; direction: inherit\; display: inline\; empty-cells: show\; float: none\; font-variant-numeric: inherit\; font-variant-east-asian: inherit\; font-stretch: inherit\; font-size: 16px\; font-family: Roboto\, Univers\, &quot\;Helvetica Neue&quot\;\, Helvetica\, Arial\, sans-serif\; left: auto\; margin: 0px\; max-height: none\; max-width: none\; min-height: initial\; min-width: initial\; opacity: 1\; outline-offset: 0px\; overflow: visible\; padding: 0px\; position: static\; resize: none\; right: auto\; table-layout: auto\; text-overflow: clip\; top: auto\; vertical-align: baseline\; visibility: inherit\; word-break: inherit\; overflow-wrap: inherit\; z-index: auto\; background-image: none\; background-position: initial\; background-size: initial\; background-repeat: initial\; background-attachment: initial\; background-origin: initial\; background-clip: initial\; border: none\; border-collapse: separate\; border-radius: 0px\; height: auto\; width: auto\; line-height: 1.6 !important\;" />\n<br style="box-sizing: content-box\; bottom: auto\; clear: none\; color: rgb(10\, 10\, 10)\; content: normal\; direction: inherit\; display: inline\; empty-cells: show\; float: none\; font-variant-numeric: inherit\; font-variant-east-asian: inherit\; font-stretch: inherit\; font-size: 16px\; font-family: Roboto\, Univers\, &quot\;Helvetica Neue&quot\;\, Helvetica\, Arial\, sans-serif\; left: auto\; margin: 0px\; max-height: none\; max-width: none\; min-height: initial\; min-width: initial\; opacity: 1\; outline-offset: 0px\; overflow: visible\; padding: 0px\; position: static\; resize: none\; right: auto\; table-layout: auto\; text-overflow: clip\; top: auto\; vertical-align: baseline\; visibility: inherit\; word-break: inherit\; overflow-wrap: inherit\; z-index: auto\; background-image: none\; background-position: initial\; background-size: initial\; background-repeat: initial\; background-attachment: initial\; background-origin: initial\; background-clip: initial\; border: none\; border-collapse: separate\; border-radius: 0px\; height: auto\; width: auto\; line-height: 1.6 !important\;" />\n<span style="color: rgb(10\, 10\, 10)\; font-family: Roboto\, Univers\, &quot\;Helvetica Neue&quot\;\, Helvetica\, Arial\, sans-serif\; font-size: 16px\;">What is the best way to manage the unexpected remote workforce\, as an employer and as an employee?</span><br style="box-sizing: content-box\; bottom: auto\; clear: none\; color: rgb(10\, 10\, 10)\; content: normal\; direction: inherit\; display: inline\; empty-cells: show\; float: none\; font-variant-numeric: inherit\; font-variant-east-asian: inherit\; font-stretch: inherit\; font-size: 16px\; font-family: Roboto\, Univers\, &quot\;Helvetica Neue&quot\;\, Helvetica\, Arial\, sans-serif\; left: auto\; margin: 0px\; max-height: none\; max-width: none\; min-height: initial\; min-width: initial\; opacity: 1\; outline-offset: 0px\; overflow: visible\; padding: 0px\; position: static\; resize: none\; right: auto\; table-layout: auto\; text-overflow: clip\; top: auto\; vertical-align: baseline\; visibility: inherit\; word-break: inherit\; overflow-wrap: inherit\; z-index: auto\; background-image: none\; background-position: initial\; background-size: initial\; background-repeat: initial\; background-attachment: initial\; background-origin: initial\; background-clip: initial\; border: none\; border-collapse: separate\; border-radius: 0px\; height: auto\; width: auto\; line-height: 1.6 !important\;" />\n<br style="box-sizing: content-box\; bottom: auto\; clear: none\; color: rgb(10\, 10\, 10)\; content: normal\; direction: inherit\; display: inline\; empty-cells: show\; float: none\; font-variant-numeric: inherit\; font-variant-east-asian: inherit\; font-stretch: inherit\; font-size: 16px\; font-family: Roboto\, Univers\, &quot\;Helvetica Neue&quot\;\, Helvetica\, Arial\, sans-serif\; left: auto\; margin: 0px\; max-height: none\; max-width: none\; min-height: initial\; min-width: initial\; opacity: 1\; outline-offset: 0px\; overflow: visible\; padding: 0px\; position: static\; resize: none\; right: auto\; table-layout: auto\; text-overflow: clip\; top: auto\; vertical-align: baseline\; visibility: inherit\; word-break: inherit\; overflow-wrap: inherit\; z-index: auto\; background-image: none\; background-position: initial\; background-size: initial\; background-repeat: initial\; background-attachment: initial\; background-origin: initial\; background-clip: initial\; border: none\; border-collapse: separate\; border-radius: 0px\; height: auto\; width: auto\; line-height: 1.6 !important\;" />\n<span style="box-sizing: content-box\; font-weight: bolder\; bottom: auto\; clear: none\; color: rgb(10\, 10\, 10)\; content: normal\; direction: inherit\; empty-cells: show\; font-variant-numeric: inherit\; font-variant-east-asian: inherit\; font-stretch: inherit\; font-size: 16px\; font-family: Roboto\, Univers\, &quot\;Helvetica Neue&quot\;\, Helvetica\, Arial\, sans-serif\; left: auto\; margin: 0px\; max-height: none\; max-width: none\; min-height: initial\; min-width: initial\; opacity: 1\; outline-offset: 0px\; overflow: visible\; padding: 0px\; position: static\; resize: none\; right: auto\; table-layout: auto\; text-overflow: clip\; top: auto\; vertical-align: baseline\; visibility: inherit\; word-break: inherit\; overflow-wrap: inherit\; z-index: auto\; background-image: none\; background-position: initial\; background-size: initial\; background-repeat: initial\; background-attachment: initial\; background-origin: initial\; background-clip: initial\; border: none\; border-collapse: separate\; border-radius: 0px\; height: auto\; width: auto\; box-shadow: none\; line-height: 1.6 !important\;">Panelists:</span>\n<ul style="box-sizing: content-box\; margin-bottom: 1rem\; list-style-position: outside\; list-style-image: none\; bottom: auto\; clear: none\; color: rgb(10\, 10\, 10)\; content: normal\; direction: inherit\; empty-cells: show\; float: none\; font-variant-numeric: inherit\; font-variant-east-asian: inherit\; font-stretch: inherit\; font-size: 16px\; font-family: Roboto\, Univers\, &quot\;Helvetica Neue&quot\;\, Helvetica\, Arial\, sans-serif\; left: auto\; max-height: none\; max-width: none\; min-height: initial\; min-width: initial\; opacity: 1\; outline-offset: 0px\; overflow: visible\; position: static\; resize: none\; right: auto\; table-layout: auto\; text-overflow: clip\; top: auto\; vertical-align: baseline\; visibility: inherit\; word-break: inherit\; overflow-wrap: inherit\; z-index: auto\; background-image: none\; background-position: initial\; background-size: initial\; background-repeat: initial\; background-attachment: initial\; background-origin: initial\; background-clip: initial\; border: none\; border-collapse: separate\; border-radius: 0px\; height: auto\; width: auto\; box-shadow: none\; margin-block-end: 1rem\; line-height: 1.6 !important\; margin-top: 0px !important\; margin-right: 0px !important\; margin-left: 1.25rem !important\; padding-right: 0px !important\; padding-left: 0px !important\;">\n	<li style="box-sizing: content-box\; margin: 0px\; padding: 0px\; bottom: auto\; clear: none\; color: inherit\; content: normal\; direction: inherit\; empty-cells: show\; float: none\; font-style: inherit\; font-variant: inherit\; font-weight: inherit\; font-stretch: inherit\; left: auto\; max-height: none\; max-width: none\; min-height: initial\; min-width: initial\; opacity: 1\; outline-offset: 0px\; overflow: visible\; position: static\; resize: none\; right: auto\; table-layout: auto\; text-indent: inherit\; text-overflow: clip\; text-transform: inherit\; top: auto\; vertical-align: baseline\; visibility: inherit\; white-space: inherit\; word-break: inherit\; word-spacing: inherit\; overflow-wrap: inherit\; z-index: auto\; background: none\; border: none\; border-collapse: separate\; border-radius: 0px\; height: auto\; width: auto\; box-shadow: none\; list-style: outside none disc\; font-size: 1rem !important\; letter-spacing: 0px !important\; line-height: 1.6 !important\; text-align: left !important\;">Laura Benson\, Senior Manager\, Consulting and Deals\, PwC Canada</li>\n	<li style="box-sizing: content-box\; margin: 0px\; padding: 0px\; bottom: auto\; clear: none\; color: inherit\; content: normal\; direction: inherit\; empty-cells: show\; float: none\; font-style: inherit\; font-variant: inherit\; font-weight: inherit\; font-stretch: inherit\; left: auto\; max-height: none\; max-width: none\; min-height: initial\; min-width: initial\; opacity: 1\; outline-offset: 0px\; overflow: visible\; position: static\; resize: none\; right: auto\; table-layout: auto\; text-indent: inherit\; text-overflow: clip\; text-transform: inherit\; top: auto\; vertical-align: baseline\; visibility: inherit\; white-space: inherit\; word-break: inherit\; word-spacing: inherit\; overflow-wrap: inherit\; z-index: auto\; background: none\; border: none\; border-collapse: separate\; border-radius: 0px\; height: auto\; width: auto\; box-shadow: none\; list-style: outside none disc\; font-size: 1rem !important\; letter-spacing: 0px !important\; line-height: 1.6 !important\; text-align: left !important\;">Michael Anhorn\, Executive Director\, Canadian Mental Health Association - Vancouver-Fraser Branch</li>\n	<li style="box-sizing: content-box\; margin: 0px\; padding: 0px\; bottom: auto\; clear: none\; color: inherit\; content: normal\; direction: inherit\; empty-cells: show\; float: none\; font-style: inherit\; font-variant: inherit\; font-weight: inherit\; font-stretch: inherit\; left: auto\; max-height: none\; max-width: none\; min-height: initial\; min-width: initial\; opacity: 1\; outline-offset: 0px\; overflow: visible\; position: static\; resize: none\; right: auto\; table-layout: auto\; text-indent: inherit\; text-overflow: clip\; text-transform: inherit\; top: auto\; vertical-align: baseline\; visibility: inherit\; white-space: inherit\; word-break: inherit\; word-spacing: inherit\; overflow-wrap: inherit\; z-index: auto\; background: none\; border: none\; border-collapse: separate\; border-radius: 0px\; height: auto\; width: auto\; box-shadow: none\; list-style: outside none disc\; font-size: 1rem !important\; letter-spacing: 0px !important\; line-height: 1.6 !important\; text-align: left !important\;">Ryan Wozniak\, Senior Vice President\, Operations and Legal\, Peninsula</li>\n</ul>\n
LOCATION:For information on more Surrey Board of Trade Events https://businessinsurrey.com/events/
UID:e.2359.964
SEQUENCE:3
DTSTAMP:20260426T025149Z
URL:https://business.cloverdalechamber.ca/events/details/2020-05-07-sbot-digital-town-hall-your-top-10-questions-answered-immigration-and-travel-bans-964
END:VEVENT

END:VCALENDAR
