BEGIN:VCALENDAR
VERSION:2.0
PRODID:-//ChamberMaster//Event Calendar 2.0//EN
METHOD:PUBLISH
X-PUBLISHED-TTL:P3D
REFRESH-INTERVAL:P3D
CALSCALE:GREGORIAN
BEGIN:VEVENT
DTSTART:20200511T220000Z
DTEND:20200511T230000Z
X-MICROSOFT-CDO-ALLDAYEVENT:FALSE
SUMMARY:2020 05 11 SBOT Digital Town Hall: A Conversatsion with the Hon. Judy Darcy
DESCRIPTION:Online Event.\n\nPlease click here for details.\n\n\n\nJoin us as we discuss the mental health supports available through the BC Government\, during and post-pandemic\, and how to handle stress. Plus\, the opioid crisis remains through the pandemic. How is this being addressed?
X-ALT-DESC;FMTTYPE=text/html:<span style="font-family: Raleway\, sans-serif\; font-size: 16px\; letter-spacing: 0.5px\; background-color: rgb(249\, 249\, 249)\;">Online Event.</span><br style="box-sizing: border-box\; font-family: Raleway\, sans-serif\; font-size: 16px\; letter-spacing: 0.5px\; background-color: rgb(249\, 249\, 249)\;" />\n<a href="https://business.businessinsurrey.com/events/details/may-11-2020-digital-town-hall-a-coversation-with-the-hon-judy-darcy-minister-of-mental-health-and-addictions-11067"><span style="font-family: Raleway\, sans-serif\; font-size: 16px\; letter-spacing: 0.5px\; background-color: rgb(249\, 249\, 249)\;">Please click here for details.</span></a><br />\n<br style="box-sizing: border-box\; font-family: Raleway\, sans-serif\; font-size: 16px\; letter-spacing: 0.5px\; background-color: rgb(249\, 249\, 249)\;" />\n<span style="color: rgb(10\, 10\, 10)\; font-family: Roboto\, Univers\, &quot\;Helvetica Neue&quot\;\, Helvetica\, Arial\, sans-serif\; font-size: 16px\;">Join us as we discuss the mental health supports available through the BC Government\, during and post-pandemic\, and how to handle stress. Plus\, the opioid crisis remains through the pandemic. How is this being addressed?</span>
LOCATION:For information on more Surrey Board of Trade Events https://businessinsurrey.com/events/
UID:e.2359.969
SEQUENCE:3
DTSTAMP:20260426T041125Z
URL:https://business.cloverdalechamber.ca/events/details/2020-05-11-sbot-digital-town-hall-a-conversatsion-with-the-hon-judy-darcy-969
END:VEVENT

END:VCALENDAR
