BEGIN:VCALENDAR
VERSION:2.0
PRODID:-//ChamberMaster//Event Calendar 2.0//EN
METHOD:PUBLISH
X-PUBLISHED-TTL:P3D
REFRESH-INTERVAL:P3D
CALSCALE:GREGORIAN
BEGIN:VEVENT
DTSTART:20200512T220000Z
DTEND:20200512T230000Z
X-MICROSOFT-CDO-ALLDAYEVENT:FALSE
SUMMARY:2020 05 12 SBOT Digital Town Hall: A Conversatsion with the Hon. Bruce Ralston
DESCRIPTION:Online Event.\n\nJoin us as we discuss BC's economic recovery and the need for investments and fast tracking infrastructure projects to create jobs post-pandemic. The Hon. Bruce Ralston\, Minister of Energy\, Mines and Petroleum Resources will join us at this Digital Town Hall to provide an update from the Provincial Government.
X-ALT-DESC;FMTTYPE=text/html:<span style="font-family: Raleway\, sans-serif\; font-size: 16px\; letter-spacing: 0.5px\; background-color: rgb(249\, 249\, 249)\;">Online Event.</span><br style="box-sizing: border-box\; font-family: Raleway\, sans-serif\; font-size: 16px\; letter-spacing: 0.5px\; background-color: rgb(249\, 249\, 249)\;" />\n<span style="font-size:14px\;"><span style="color:#222222\;"><span style="font-family:arial\,sans-serif\;">Join us as we discuss BC&#39\;s economic recovery and the need for investments and fast tracking infrastructure projects to create jobs post-pandemic. The Hon. Bruce Ralston\, Minister of Energy\, Mines and Petroleum&nbsp\;Resources will join us at this Digital Town Hall to provide an update from the Provincial Government.&nbsp\;</span></span></span><br />\n<br />\n<br />\n<br style="box-sizing: border-box\; font-family: Raleway\, sans-serif\; font-size: 16px\; letter-spacing: 0.5px\; background-color: rgb(249\, 249\, 249)\;" />\n&nbsp\;
LOCATION:For information on more Surrey Board of Trade Events https://businessinsurrey.com/events/
UID:e.2359.970
SEQUENCE:3
DTSTAMP:20260426T024833Z
URL:https://business.cloverdalechamber.ca/events/details/2020-05-12-sbot-digital-town-hall-a-conversatsion-with-the-hon-bruce-ralston-970
END:VEVENT

END:VCALENDAR
