BEGIN:VCALENDAR
VERSION:2.0
PRODID:-//ChamberMaster//Event Calendar 2.0//EN
METHOD:PUBLISH
X-PUBLISHED-TTL:P3D
REFRESH-INTERVAL:P3D
CALSCALE:GREGORIAN
BEGIN:VEVENT
DTSTART:20200514T170000Z
DTEND:20200514T180000Z
X-MICROSOFT-CDO-ALLDAYEVENT:FALSE
SUMMARY:2020 05 14 COVID Conversation Series - Getting Back to Business
DESCRIPTION:How to make the most of \n\ngetting back to business: \n\n \n\nThe 7 P's to a Resilient & Prosperous Recovery\n\n \n\nJoin us online on Thursday\, May 14 at 10:00 am\n\n \n\nNow that the Provincial Government has announced we can start re-opening the economy\, do you know how you are going to get back to business?\n\n \n\nJoin us for a free webinar: the 7 P's to a Resilient & Prosperous Recovery\n\n \n\nThe business landscape has changed! Now is time to start planning for the recovery whether your business remained open or was shuttered during the lock down. In this webinar\, you will learn a comprehensive 7 Point Planning System and Key Strategies to get your business ready for the many opportunities and challenges that await as the economy begins to open.
X-ALT-DESC;FMTTYPE=text/html:<div style="color: rgb(76\, 76\, 76)\; font-family: Tahoma\, Geneva\, sans-serif\; font-size: 12px\; white-space: pre-wrap\; text-align: center\;"><span style="font-size: 28px\; color: rgb(35\, 35\, 51)\; font-weight: bold\;">How to make the most of </span></div>\n\n<div style="color: rgb(76\, 76\, 76)\; font-family: Tahoma\, Geneva\, sans-serif\; font-size: 12px\; white-space: pre-wrap\; text-align: center\;"><span style="font-size: 28px\; color: rgb(35\, 35\, 51)\; font-weight: bold\;">getting back to business: </span></div>\n\n<div style="color: rgb(76\, 76\, 76)\; font-family: Tahoma\, Geneva\, sans-serif\; font-size: 12px\; white-space: pre-wrap\; text-align: center\;">&nbsp\;</div>\n\n<div style="color: rgb(76\, 76\, 76)\; font-family: Tahoma\, Geneva\, sans-serif\; font-size: 12px\; white-space: pre-wrap\; text-align: center\;"><span style="font-size: 36px\; color: rgb(35\, 35\, 51)\; font-weight: bold\;">The 7 P&#39\;s to a Resilient &amp\; Prosperous Recovery</span></div>\n\n<div style="color: rgb(76\, 76\, 76)\; font-family: Tahoma\, Geneva\, sans-serif\; font-size: 12px\; white-space: pre-wrap\; text-align: center\;">&nbsp\;</div>\n\n<div style="color: rgb(76\, 76\, 76)\; font-family: Tahoma\, Geneva\, sans-serif\; font-size: 12px\; white-space: pre-wrap\; text-align: center\;"><span style="font-size: 14px\; color: rgb(0\, 0\, 0)\;">Join us online on </span><span style="font-size: 14px\; color: rgb(0\, 0\, 0)\; font-weight: bold\;">Thursday\, May 14 at 10:00 am</span></div>\n\n<div style="color: rgb(76\, 76\, 76)\; font-family: Tahoma\, Geneva\, sans-serif\; font-size: 12px\; white-space: pre-wrap\; text-align: center\;">&nbsp\;</div>\n\n<div style="color: rgb(76\, 76\, 76)\; font-family: Tahoma\, Geneva\, sans-serif\; font-size: 12px\; white-space: pre-wrap\; text-align: justify\;"><span style="font-size: 16px\; color: rgb(35\, 35\, 51)\;">Now that the Provincial Government has announced we can start re-opening the economy\, do you know how you are going to get back to business?</span></div>\n\n<div style="color: rgb(76\, 76\, 76)\; font-family: Tahoma\, Geneva\, sans-serif\; font-size: 12px\; white-space: pre-wrap\; text-align: justify\;"><span style="font-size: 16px\; color: rgb(35\, 35\, 51)\;">&nbsp\;</span></div>\n\n<div style="color: rgb(76\, 76\, 76)\; font-family: Tahoma\, Geneva\, sans-serif\; font-size: 12px\; white-space: pre-wrap\; text-align: justify\;"><span style="font-size: 16px\; color: rgb(35\, 35\, 51)\;">Join us for a free webinar: the 7 P&#39\;s to a Resilient &amp\; Prosperous Recovery</span></div>\n\n<div style="color: rgb(76\, 76\, 76)\; font-family: Tahoma\, Geneva\, sans-serif\; font-size: 12px\; white-space: pre-wrap\; text-align: justify\;"><span style="font-size: 16px\; color: rgb(35\, 35\, 51)\;">&nbsp\;</span></div>\n\n<div style="color: rgb(76\, 76\, 76)\; font-family: Tahoma\, Geneva\, sans-serif\; font-size: 12px\; white-space: pre-wrap\; text-align: justify\;"><span style="font-size: 16px\; color: rgb(35\, 35\, 51)\;">The business landscape has changed! Now is time to start planning for the recovery whether your business remained open or was shuttered during the lock down. In this webinar\, you will learn a comprehensive 7 Point Planning System and Key Strategies to get your business ready for the many opportunities and challenges that await as the economy begins to open.</span></div>\n
LOCATION:Online Topic: Getting Back to Business Time: May 14\, 2020 10 AM Scott Wheatley is inviting you to a scheduled Zoom meeting. Topic: Covid Conversations Time: May 14\, 2020 10:00 AM Vancouver Join Zoom Meeting https://us02web.zoom.us/j/84095030225 Meeting ID: 840 9503 0225 One tap mobile +14388097799\,\,84095030225# Canada +15873281099\,\,84095030225# Canada Dial by your location +1 438 809 7799 Canada +1 587 328 1099 Canada +1 647 374 4685 Canada +1 647 558 0588 Canada +1 778 907 2071 Canada Meeting ID: 840 9503 0225 Find your local number: https://us02web.zoom.us/u/k7yzlyGYI
UID:e.2359.971
SEQUENCE:3
DTSTAMP:20260426T040518Z
URL:https://business.cloverdalechamber.ca/events/details/2020-05-14-covid-conversation-series-getting-back-to-business-971
END:VEVENT

END:VCALENDAR
