BEGIN:VCALENDAR
VERSION:2.0
PRODID:-//ChamberMaster//Event Calendar 2.0//EN
METHOD:PUBLISH
X-PUBLISHED-TTL:P3D
REFRESH-INTERVAL:P3D
CALSCALE:GREGORIAN
BEGIN:VEVENT
DTSTART:20200515T170000Z
DTEND:20200515T190000Z
X-MICROSOFT-CDO-ALLDAYEVENT:FALSE
SUMMARY:2020 05 15 COVID-19 Virtual Town Hall for South Surrey/White Rock - May 15th
DESCRIPTION:
X-ALT-DESC;FMTTYPE=text/html:
LOCATION:This event is a virtual Zoom Webinar. All registered participants will receive the Zoom link and password in an email confirmation with a spot to submit questions in advance.
UID:e.2359.962
SEQUENCE:3
DTSTAMP:20260426T024900Z
URL:https://business.cloverdalechamber.ca/events/details/2020-05-15-covid-19-virtual-town-hall-for-south-surrey-white-rock-may-15th-962
END:VEVENT

END:VCALENDAR
