BEGIN:VCALENDAR
VERSION:2.0
PRODID:-//ChamberMaster//Event Calendar 2.0//EN
METHOD:PUBLISH
X-PUBLISHED-TTL:P3D
REFRESH-INTERVAL:P3D
CALSCALE:GREGORIAN
BEGIN:VEVENT
DTSTART;VALUE=DATE:20200515
DTEND;VALUE=DATE:20200516
TRANSP:TRANSPARENT
X-MICROSOFT-CDO-ALLDAYEVENT:TRUE
SUMMARY:2020 05 15 PwC Weekly Webinar for Businesses
DESCRIPTION:Description\n\nEvery Friday for the next six weeks\, PwC will be featuring a webinar series which will cover a number of topics that are front and centre for business leaders at the moment. You will also be able to access previously recorded webcasts as they become available. Click here for details.
X-ALT-DESC;FMTTYPE=text/html:<h3 class="gz-subtitle" style="box-sizing: border-box\; font-family: Raleway\, sans-serif\; line-height: 1.1\; margin-top: 1rem\; margin-bottom: 0.5rem\; font-size: 24px\; background-color: rgb(249\, 249\, 249)\;">Description</h3>\n\n<p style="box-sizing: border-box\; margin: 0px 0px 1rem\; letter-spacing: 0.5px\; font-family: Raleway\, sans-serif\; font-size: 16px\; background-color: rgb(249\, 249\, 249)\;">Every Friday for the next six weeks\, PwC will be featuring a webinar series which will cover a number of topics that are front and centre for business leaders at the moment. You will also be able to access previously recorded webcasts as they become available.&nbsp\;<a href="http://cloud.ca.info.pwc.com/covid-19-webcast-320?cmp=7014I0000006wCAQAY&amp\;eid=1293194" style="box-sizing: border-box\; background-color: transparent\; color: rgb(22\, 45\, 69)\; text-decoration-line: none\; overflow-wrap: break-word\; outline: 0px\;">Click here for details.</a></p>\n
LOCATION:Click here for details
UID:e.2359.967
SEQUENCE:3
DTSTAMP:20260426T024723Z
URL:https://business.cloverdalechamber.ca/events/details/2020-05-15-pwc-weekly-webinar-for-businesses-967
END:VEVENT

END:VCALENDAR
