BEGIN:VCALENDAR
VERSION:2.0
PRODID:-//ChamberMaster//Event Calendar 2.0//EN
METHOD:PUBLISH
X-PUBLISHED-TTL:P3D
REFRESH-INTERVAL:P3D
CALSCALE:GREGORIAN
BEGIN:VEVENT
DTSTART:20200522T220000Z
DTEND:20200522T230000Z
X-MICROSOFT-CDO-ALLDAYEVENT:FALSE
SUMMARY:2020 05 22 COVID Conversation Series - Government Assistance & Restarting the Economy
DESCRIPTION:Covid Conversation Series\n\nGovernment Assistance & Restarting the Economy \n\nTopic 5: Restarting our Economy and Accessing assistance from the various levels of government \n\nJoin MP Tamara Jansen\, MLA Marvin Hunt\, MLA Stephanie Cadieux\, Councillor Linda Annis and Councillor Allison Patton join us to answer your questions regarding the multitude of programs available to help support you and your business during the COVID crisis. With the announcement by Premier John Horgan on the various phases of restarting the BC Economy\, our panel will also be available to answer your questions on preparing your business for the new normal. \n\n \n\nJoin us for a Zoom meeting to get your questions and concerns answered.\n\n\nPlease email questions in advance to Scott Wheatley @ swheatley@cloverdalechamber.ca
X-ALT-DESC;FMTTYPE=text/html:<h1 style="color: rgb(76\, 76\, 76)\; font-family: Tahoma\, Geneva\, sans-serif\; font-size: 12px\; white-space: pre-wrap\; text-align: center\;"><span style="font-size: 14px\; color: rgb(0\, 0\, 0)\; font-weight: bold\;">Covid Conversation Series</span><br />\n<span style="font-size:28px\;"><span style="font-weight: bold\;">Government Assistance &amp\; Restarting the Economy </span></span></h1>\n\n<h1 style="color: rgb(76\, 76\, 76)\; font-family: Tahoma\, Geneva\, sans-serif\; font-size: 12px\; white-space: pre-wrap\; text-align: center\;"><span style="font-size:26px\;"><span style="color: rgb(0\, 0\, 0)\; font-weight: bold\; font-family: Calibri\, Helvetica\, Arial\, sans-serif\;">Topic 5: Restarting our Economy and Accessing assistance from the various levels of government&nbsp\;</span></span></h1>\n\n<div style="color: rgb(76\, 76\, 76)\; font-family: Tahoma\, Geneva\, sans-serif\; font-size: 12px\; white-space: pre-wrap\;"><span style="font-size: 14px\;">Join MP </span><span style="font-size: 14px\; font-weight: bold\;">Tamara Jansen</span><span style="font-size: 14px\;">\, MLA </span><span style="font-size: 14px\; font-weight: bold\;">Marvin Hunt</span><span style="font-size: 14px\;">\, MLA </span><span style="font-size: 14px\; font-weight: bold\;">Stephanie Cadieux\, </span><span style="font-size: 14px\;">Councillor </span><span style="font-size: 14px\; font-weight: bold\;">Linda Annis</span><span style="font-size: 14px\;"> and Councillor </span><span style="font-size: 14px\; font-weight: bold\;">Allison Patton</span><span style="font-size: 14px\;"> join us to answer your questions regarding the multitude of programs available to help support you and your business during the COVID crisis. With the announcement by Premier </span><span style="font-size: 14px\; font-weight: bold\;">John Horgan</span><span style="font-size: 14px\;"> on the various phases of restarting the BC Economy\, our panel will also be available to answer your questions on preparing your business for the new normal. </span></div>\n\n<div style="color: rgb(76\, 76\, 76)\; font-family: Tahoma\, Geneva\, sans-serif\; font-size: 12px\; white-space: pre-wrap\;">&nbsp\;</div>\n\n<div style="color: rgb(76\, 76\, 76)\; font-family: Tahoma\, Geneva\, sans-serif\; font-size: 12px\; white-space: pre-wrap\;"><span style="font-size: 14px\;">Join us for a Zoom meeting to get your questions and concerns answered.</span></div>\n<br />\n<span style="color: rgb(76\, 76\, 76)\; font-family: Tahoma\, Geneva\, sans-serif\; font-size: 14px\; white-space: pre-wrap\;"><strong>Please email questions in advance</strong> to Scott Wheatley @ swheatley@cloverdalechamber.ca</span>
LOCATION:Online Topic: Cloverdale District Chamber of Commerce Time: May 22\, 2020 03:00 PM Vancouver
UID:e.2359.972
SEQUENCE:3
DTSTAMP:20260426T025136Z
URL:https://business.cloverdalechamber.ca/events/details/2020-05-22-covid-conversation-series-government-assistance-restarting-the-economy-972
END:VEVENT

END:VCALENDAR
