BEGIN:VCALENDAR
VERSION:2.0
PRODID:-//ChamberMaster//Event Calendar 2.0//EN
METHOD:PUBLISH
X-PUBLISHED-TTL:P3D
REFRESH-INTERVAL:P3D
CALSCALE:GREGORIAN
BEGIN:VEVENT
DTSTART:20200525T210000Z
DTEND:20200525T220000Z
X-MICROSOFT-CDO-ALLDAYEVENT:FALSE
SUMMARY:2020 05 25 SBOT Digital Town Hall: Your Top 10 Questions Answered. Changing How You Servce Customers
DESCRIPTION:Online Event.\n\nCOVID-19 has forced businesses to explore different ways of serving their customers. Join us in hearing from our panel of experts on ways to transform your business offerings to mitigate the risk of virus transmission\, now and post-pandemic.\n\n\n\nPanelists:\n\n	Cybele Negris\, Co-Founder and CEO\, Webnames.ca\n	Tom Woodman\, Consulting and Deals\, PwC Canada\n	Greg Wilson\, Director\, Government Relations (BC)\, Retail Council of Canada\n	Ian Tostenson\, President and CEO\, BC Restaurant and Food Services Association
X-ALT-DESC;FMTTYPE=text/html:<span style="font-family: Raleway\, sans-serif\; font-size: 16px\; letter-spacing: 0.5px\; background-color: rgb(249\, 249\, 249)\;">Online Event.</span><br style="box-sizing: border-box\; font-family: Raleway\, sans-serif\; font-size: 16px\; letter-spacing: 0.5px\; background-color: rgb(249\, 249\, 249)\;" />\n<span style="font-family:arial\,sans-serif\;"><span style="font-size:9.0pt\;">COVID-19 has forced businesses to explore different ways of serving their customers. Join us in hearing from our panel of experts on ways to transform your business offerings to mitigate the risk of virus transmission\, now and post-pandemic.<br />\n<br />\n<strong><span style="font-family:arial\,sans-serif\;">Panelists:</span></strong></span></span>\n<ul>\n	<li><span style="font-family:arial\,sans-serif\;"><span style="font-size:9.0pt\;">Cybele Negris\, Co-Founder and CEO\, Webnames.ca</span></span></li>\n	<li><span style="font-family:arial\,sans-serif\;"><span style="font-size:9.0pt\;">Tom Woodman\, Consulting and Deals\, PwC Canada</span></span></li>\n	<li><span style="font-family:arial\,sans-serif\;"><span style="font-size:9.0pt\;">Greg Wilson\, Director\, Government Relations (BC)\, Retail Council of Canada</span></span></li>\n	<li><span style="font-family:arial\,sans-serif\;"><span style="font-size:9.0pt\;">Ian Tostenson\, President and CEO\, BC Restaurant and Food Services Association</span></span></li>\n</ul>\n
LOCATION:For information on more Surrey Board of Trade Events https://businessinsurrey.com/events/
UID:e.2359.975
SEQUENCE:3
DTSTAMP:20260426T024945Z
URL:https://business.cloverdalechamber.ca/events/details/2020-05-25-sbot-digital-town-hall-your-top-10-questions-answered-changing-how-you-servce-customers-975
END:VEVENT

END:VCALENDAR
