BEGIN:VCALENDAR
VERSION:2.0
PRODID:-//ChamberMaster//Event Calendar 2.0//EN
METHOD:PUBLISH
X-PUBLISHED-TTL:P3D
REFRESH-INTERVAL:P3D
CALSCALE:GREGORIAN
BEGIN:VEVENT
DTSTART:20200526T190000Z
DTEND:20200526T200000Z
X-MICROSOFT-CDO-ALLDAYEVENT:FALSE
SUMMARY:2020 05 26 SBOT Digital Town Hall: A Conversatsion with the Hon. Catherine McKenna
DESCRIPTION:Online Event.\n\nOn Tuesday\, May 26th\, we will be joined by Canada's Minister of Infrastructure and Communities\, the Hon. Catherine McKenna. How and why will infrastructure spending play a major role in the next phase of economic recovery to create jobs? Tune in to find out!
X-ALT-DESC;FMTTYPE=text/html:<span style="font-family: Raleway\, sans-serif\; font-size: 16px\; letter-spacing: 0.5px\; background-color: rgb(249\, 249\, 249)\;">Online Event.</span><br style="box-sizing: border-box\; font-family: Raleway\, sans-serif\; font-size: 16px\; letter-spacing: 0.5px\; background-color: rgb(249\, 249\, 249)\;" />\n<span style="font-family:arial\,sans-serif\;"><span style="font-size:9.0pt\;">On Tuesday\, May 26th\, we will be joined by Canada&#39\;s Minister of Infrastructure and Communities\, the Hon. Catherine McKenna. How and why will infrastructure&nbsp\;spending play a major role in the next phase of economic recovery to create jobs? Tune in to find out!</span></span><br />\n<br />\n<br />\n<br style="box-sizing: border-box\; font-family: Raleway\, sans-serif\; font-size: 16px\; letter-spacing: 0.5px\; background-color: rgb(249\, 249\, 249)\;" />\n&nbsp\;
LOCATION:For information on more Surrey Board of Trade Events https://businessinsurrey.com/events/
UID:e.2359.974
SEQUENCE:3
DTSTAMP:20260426T024831Z
URL:https://business.cloverdalechamber.ca/events/details/2020-05-26-sbot-digital-town-hall-a-conversatsion-with-the-hon-catherine-mckenna-974
END:VEVENT

END:VCALENDAR
