BEGIN:VCALENDAR
VERSION:2.0
PRODID:-//ChamberMaster//Event Calendar 2.0//EN
METHOD:PUBLISH
X-PUBLISHED-TTL:P3D
REFRESH-INTERVAL:P3D
CALSCALE:GREGORIAN
BEGIN:VEVENT
DTSTART:20200527T170000Z
DTEND:20200527T180000Z
X-MICROSOFT-CDO-ALLDAYEVENT:FALSE
SUMMARY:2020 05 27 Social Media 101 - Don't gamble with your W5 story
DESCRIPTION:Looking to up your social media game in these unprecedented times and not sure where to start or how to do this?\n\n \n\nDon't 'gamble' with your W5 story (Who\, What\, Where\, When & Why) away on the social media platforms of LinkedIn Instagram Facebook and Twitter. Instead learn the 'L.I.F.T.(I.N.G.) Up' System and how to make the most of your existing networks to benefit your social media efforts. \n\n\n\nPlease join Jeanette Y. Martin from MYBC Consulting as she helps business owners\, side gig enthusiast and entrepreneurs overcome their fear of social media\, by showing them how to make true and genuine connections that really matter. Though her program she lifts you up\, so you can learn to lift yourself up\, so we can ultimately lift each other up.
X-ALT-DESC;FMTTYPE=text/html:<span style="font-size:16px\;"><strong><span style="background:white\;"><span style="color:#1D2129\;"><span style="font-family:helvetica\,sans-serif\;">Looking to up your social media game in these unprecedented times and not sure where to start or how to do this?</span></span></span></strong></span><br />\n&nbsp\;<br />\n<span style="font-size:16px\;"><span style="background:white\;"><span style="color:#1D2129\;"><span style="font-family:helvetica\,sans-serif\;">Don&rsquo\;t &#39\;gamble&#39\; with your W5 story (Who\, What\, Where\, When &amp\; Why) away on the social media platforms of LinkedIn Instagram Facebook and Twitter. Instead learn the &#39\;L.I.F.T.(I.N.G.) Up&#39\; System and how to make the most of your existing networks to benefit your social media efforts. </span></span></span></span><br />\n<br />\n<span style="font-size:16px\;"><span style="color:#1D2129\;"><span style="font-family:helvetica\,sans-serif\;"><span style="background:white\;">Please join Jeanette Y. Martin from MYBC Consulting as she</span></span></span><span style="background:white\;"><span style="color:#1D2129\;"><span style="font-family:segoe ui\,sans-serif\;"> helps business owners\, side gig enthusiast and entrepreneurs overcome their fear of social media\, by showing them how to make true and genuine connections that really matter. Though her program she lifts you up\, so you can learn to lift yourself up\, so we can ultimately lift each other up.</span></span></span></span><br />\n&nbsp\;
LOCATION:
UID:e.2359.973
SEQUENCE:3
DTSTAMP:20260426T025136Z
URL:https://business.cloverdalechamber.ca/events/details/2020-05-27-social-media-101-don-t-gamble-with-your-w5-story-973
END:VEVENT

END:VCALENDAR
