BEGIN:VCALENDAR
VERSION:2.0
PRODID:-//ChamberMaster//Event Calendar 2.0//EN
METHOD:PUBLISH
X-PUBLISHED-TTL:P3D
REFRESH-INTERVAL:P3D
CALSCALE:GREGORIAN
BEGIN:VEVENT
DTSTART:20200603T170000Z
DTEND:20200603T183000Z
X-MICROSOFT-CDO-ALLDAYEVENT:FALSE
SUMMARY:2020 06 03 COVID Conversation Series - Peter Legge\, Doing Business in Tough Times
DESCRIPTION:Learn how one of BC?s most successful businessmen has weathered many storms throughout his five decades in business. Join us for this special event dedicated to inspiring and motivating you in these uncertain times. \n\n\n\nWe are thrilled to bring you Dr. Peter Legge\, OBC\, an internationally acclaimed professional speaker\, a bestselling author and as Chairman & CEO of the largest independently owned magazine publishing company in Western Canada -  Canada Wide Media Limited. He is a community leader\, tirelessly devoting his time to many worthwhile organizations and a past Chair of the Vancouver Board of Trade.\n\n\n\nWe encourage all registrants to consider supporting our member restaurants and order take-out or delivery to enjoy prior to this event. For a list of member restaurants\, Hungry visit one of member restaurants and pre-order you lunch.\n\n\n\nClick here: https://business.cloverdalechamber.ca/list/ql/restaurants-food-beverages-46
X-ALT-DESC;FMTTYPE=text/html:Learn how one of BC?s most successful businessmen has weathered many storms throughout his five decades in business. Join us for this special event dedicated to inspiring and motivating you in these uncertain times.&nbsp\;<br />\n<br />\nWe are thrilled to bring you Dr. Peter Legge\, OBC\, an internationally acclaimed professional speaker\, a bestselling author and as Chairman &amp\; CEO of the largest independently owned magazine publishing company in Western Canada -&nbsp\; Canada Wide Media Limited. He is a community leader\, tirelessly devoting his time to many worthwhile organizations and a past Chair of the Vancouver Board of Trade.<br />\n<br />\nWe encourage all registrants to consider supporting our member restaurants and order take-out or delivery to enjoy prior to this event. For a list of member restaurants\, Hungry visit one of member restaurants and pre-order you lunch.<br />\n<br />\nClick here:&nbsp\;<a href="https://business.cloverdalechamber.ca/list/ql/restaurants-food-beverages-46">https://business.cloverdalechamber.ca/list/ql/restaurants-food-beverages-46</a>&nbsp\;
LOCATION:Online Login information to this zoom conference will be sent out 24 hours in advance.
UID:e.2359.965
SEQUENCE:3
DTSTAMP:20260426T011208Z
URL:https://business.cloverdalechamber.ca/events/details/2020-06-03-covid-conversation-series-peter-legge-doing-business-in-tough-times-965
END:VEVENT

END:VCALENDAR
