BEGIN:VCALENDAR
VERSION:2.0
PRODID:-//ChamberMaster//Event Calendar 2.0//EN
METHOD:PUBLISH
X-PUBLISHED-TTL:P3D
REFRESH-INTERVAL:P3D
CALSCALE:GREGORIAN
BEGIN:VEVENT
DTSTART:20200622T173000Z
DTEND:20200622T183000Z
X-MICROSOFT-CDO-ALLDAYEVENT:FALSE
SUMMARY:2020 06 22 Take Control of Your Business: 3 Simple Tools to Help your Business Survive and Thrive
DESCRIPTION:In partnership with EY \n\nOrganizations are faced with a new duality of safely transitioning people back to physical locations while reimagining the future of work and business. This discussion will include: \n\n\n	Operational resilience \n	Health and safety considerations for a physical return to work \n	Technology and cybersecurity concerns\n	The workforce of the future
X-ALT-DESC;FMTTYPE=text/html:<p style="box-sizing: border-box\; margin-bottom: 1.5em\; margin-top: 24px\; color: rgb(25\, 25\, 25)\; font-family: CenturyGothicStd\, sans-serif\; font-size: 16px\;"><em style="box-sizing: border-box\;"><span style="box-sizing: border-box\; font-weight: 700\;">In partnership with EY&nbsp\;</span></em><br />\nOrganizations are faced with a new duality of safely transitioning people back to physical locations while reimagining the future of work and business. This discussion will include:&nbsp\;</p>\n\n<ul style="box-sizing: border-box\; margin: 0px\; padding-right: 0px\; padding-left: 0px\; list-style: none\; color: rgb(25\, 25\, 25)\; font-family: CenturyGothicStd\, sans-serif\; font-size: 16px\;">\n	<li style="box-sizing: border-box\; margin-left: 15px\; position: relative\; padding-left: 15px\;">Operational resilience&nbsp\;</li>\n	<li style="box-sizing: border-box\; margin-left: 15px\; position: relative\; padding-left: 15px\;">Health and safety considerations for a physical return to work&nbsp\;</li>\n	<li style="box-sizing: border-box\; margin-left: 15px\; position: relative\; padding-left: 15px\;">Technology and cybersecurity concerns</li>\n	<li style="box-sizing: border-box\; margin-left: 15px\; position: relative\; padding-left: 15px\;">The workforce of the future&nbsp\;</li>\n</ul>\n
LOCATION:Webinar Click to Registerhttps://www.eventbrite.ca/e/webinar-with-sysential-take-control-of-your-business-tickets-107091680098
UID:e.2359.982
SEQUENCE:3
DTSTAMP:20260426T024946Z
URL:https://business.cloverdalechamber.ca/events/details/2020-06-22-take-control-of-your-business-3-simple-tools-to-help-your-business-survive-and-thrive-982
END:VEVENT

END:VCALENDAR
