BEGIN:VCALENDAR
VERSION:2.0
PRODID:-//ChamberMaster//Event Calendar 2.0//EN
METHOD:PUBLISH
X-PUBLISHED-TTL:P3D
REFRESH-INTERVAL:P3D
CALSCALE:GREGORIAN
BEGIN:VEVENT
DTSTART:20200625T003000Z
DTEND:20200625T020000Z
X-MICROSOFT-CDO-ALLDAYEVENT:FALSE
SUMMARY:2020 06 24 Advocacy Committee Meeting
DESCRIPTION:Join the Chamber Advocacy Committee\n\n \n\nWe are currently working on: \n\n	    Covid Economic Recovery\n	         Transit\,\n	         transportation\, \n	         housing \n	         and other issues of import to Cloverdale and district businesses and residents.\n\nWe are also giving you an opportunity and voice with all three levels of government and community stakeholders. \n\nJOIN US!
X-ALT-DESC;FMTTYPE=text/html:<span style="font-size:14px\;"><strong>Join the Chamber Advocacy Committee</strong></span><br />\n&nbsp\;<br />\n<strong><em>We are currently working on: </em></strong>\n<ul>\n	<li>&nbsp\; &nbsp\; <em><strong>Covid Economic Recovery</strong></em></li>\n	<li>&nbsp\;&nbsp\;&nbsp\;&nbsp\;&nbsp\;&nbsp\;&nbsp\;&nbsp\; <strong><em>Transit\,</em></strong></li>\n	<li>&nbsp\;&nbsp\;&nbsp\;&nbsp\;&nbsp\;&nbsp\;&nbsp\;&nbsp\; <strong><em>transportation\, </em></strong></li>\n	<li>&nbsp\;&nbsp\;&nbsp\;&nbsp\;&nbsp\;&nbsp\;&nbsp\;&nbsp\; <strong><em>housing </em></strong></li>\n	<li>&nbsp\;&nbsp\;&nbsp\;&nbsp\;&nbsp\;&nbsp\;&nbsp\;&nbsp\; <strong><em>and other issues of import to Cloverdale and district businesses and residents.</em></strong></li>\n</ul>\n<strong><em>We are also giving you an opportunity and voice with all three levels of government and community stakeholders. </em></strong><br />\n<strong><em>JOIN US!</em></strong>
LOCATION:VIA Zoom Meeting details will be sent to all registrants
UID:e.2359.978
SEQUENCE:3
DTSTAMP:20260426T011128Z
URL:https://business.cloverdalechamber.ca/events/details/2020-06-24-advocacy-committee-meeting-978
END:VEVENT

END:VCALENDAR
