BEGIN:VCALENDAR
VERSION:2.0
PRODID:-//ChamberMaster//Event Calendar 2.0//EN
METHOD:PUBLISH
X-PUBLISHED-TTL:P3D
REFRESH-INTERVAL:P3D
CALSCALE:GREGORIAN
BEGIN:VEVENT
DTSTART:20200623T190000Z
DTEND:20200623T210000Z
X-MICROSOFT-CDO-ALLDAYEVENT:FALSE
SUMMARY:2020 06 26 Building a resilient workforce that can thrive in the next normal
DESCRIPTION:In collaboration with Deloitte\n\nAn estimated 2.7 billion workers worldwide have been affected by full or partial lockdowns\, according to the United Nations' labour body\, the International Labour Organization.. Deloitte's 2020 Global Human Capital Trends report\, The social enterprise at work: Paradox as a path forward\, comes at a time when the pandemic has forced a rethink of workforce strategies. As organizations continue to respond to economic uncertainty and focus on recovery\, leaders are learning\, adapting and preparing to emerge stronger.
X-ALT-DESC;FMTTYPE=text/html:<p style="box-sizing: border-box\; margin-bottom: 1.5em\; margin-top: 24px\; color: rgb(25\, 25\, 25)\; font-family: CenturyGothicStd\, sans-serif\; font-size: 16px\;"><em style="box-sizing: border-box\;"><span style="box-sizing: border-box\; font-weight: 700\;">In collaboration with Deloitte</span></em><br />\nAn estimated 2.7 billion workers worldwide have been affected by full or partial lockdowns\, according to the United Nations&rsquo\; labour body\, the International Labour&nbsp\;Organization..&nbsp\;Deloitte&rsquo\;s&nbsp\;<a href="https://www2.deloitte.com/ca/en/pages/human-capital/articles/hctrends2020.html" rel="noreferrer noopener" style="box-sizing: border-box\; background-color: transparent\; color: rgb(43\, 81\, 128)\; text-decoration-line: none\;" target="_blank">2020 Global Human Capital Trends report\,&nbsp\;<span style="box-sizing: border-box\; font-weight: 700\;">The social enterprise at work: Paradox as a path forward</span></a>\,&nbsp\;comes at a time when the pandemic has forced a rethink of workforce strategies. As organizations continue to respond to economic uncertainty and focus on recovery\, leaders are learning\, adapting and preparing to emerge stronger.&nbsp\;</p>\n
LOCATION:Webinar Click to Register https://www.eventbrite.ca/e/building-a-resilient-workforce-to-thrive-in-the-next-normal-deloitte-tickets-109188337256
UID:e.2359.980
SEQUENCE:3
DTSTAMP:20260426T011006Z
URL:https://business.cloverdalechamber.ca/events/details/2020-06-26-building-a-resilient-workforce-that-can-thrive-in-the-next-normal-980
END:VEVENT

END:VCALENDAR
