BEGIN:VCALENDAR
VERSION:2.0
PRODID:-//ChamberMaster//Event Calendar 2.0//EN
METHOD:PUBLISH
X-PUBLISHED-TTL:P3D
REFRESH-INTERVAL:P3D
CALSCALE:GREGORIAN
BEGIN:VEVENT
DTSTART:20200714T170000Z
DTEND:20200714T180000Z
X-MICROSOFT-CDO-ALLDAYEVENT:FALSE
SUMMARY:2020 07 14 Legal Considerations in the Covid Crisis
DESCRIPTION:Legal Considerations in the COVID Crisis\n\n \n\nThe Cloverdale District Chamber of Commerce is pleased to provide employers an opportunity to access important legal information. You will hear from Scott Payne\, an employment lawyer from CBM Lawyers\, regarding the following topics:\n\n \n\n1.    Maintaining a safe and healthy workplace.\n\n2.    Managing employees' return to work.\n\n3.    What should an employer do if an employee is sick or presenting COVID symptoms?\n\n4.    Can an employer require that an employee get tested for COVID?\n\n5.    What does an employer do if an employee refuses to attend the workplace?\n\n \n\nDon't miss this free webinar on Tuesday\, July 14 at 10. Pre-registration is required.
X-ALT-DESC;FMTTYPE=text/html:<div style="color: rgb(76\, 76\, 76)\; font-family: Tahoma\, Geneva\, sans-serif\; font-size: 12px\; white-space: pre-wrap\; text-align: justify\;"><span style="font-family: Georgia\, &quot\;Times New Roman&quot\;\, Times\, serif\; color: rgb(0\, 0\, 0)\; font-size: 24px\;">Legal Considerations in the COVID Crisis</span></div>\n\n<div style="color: rgb(76\, 76\, 76)\; font-family: Tahoma\, Geneva\, sans-serif\; font-size: 12px\; white-space: pre-wrap\; text-align: justify\;"><span style="font-family: Arial\, Verdana\, Helvetica\, sans-serif\; color: rgb(0\, 0\, 0)\; font-size: 13px\;">&nbsp\;</span></div>\n\n<div style="color: rgb(76\, 76\, 76)\; font-family: Tahoma\, Geneva\, sans-serif\; font-size: 12px\; white-space: pre-wrap\; text-align: justify\;"><span style="color: rgb(0\, 0\, 0)\; font-size: 13px\;">The </span><span style="color: rgb(0\, 0\, 0)\; font-size: 13px\; font-weight: bold\;">Cloverdale District Chamber of Commerce</span><span style="color: rgb(0\, 0\, 0)\; font-size: 13px\;"> is pleased to provide employers an opportunity to access important legal information. You will hear from </span><span style="color: rgb(0\, 0\, 0)\; font-size: 13px\; font-weight: bold\;">Scott Payne</span><span style="color: rgb(0\, 0\, 0)\; font-size: 13px\;">\, an employment lawyer from </span><span style="color: rgb(0\, 0\, 0)\; font-size: 13px\; font-weight: bold\;">CBM Lawyers</span><span style="color: rgb(0\, 0\, 0)\; font-size: 13px\;">\, regarding the following topics:</span></div>\n\n<div style="color: rgb(76\, 76\, 76)\; font-family: Tahoma\, Geneva\, sans-serif\; font-size: 12px\; white-space: pre-wrap\; text-align: justify\;"><span style="color: rgb(0\, 0\, 0)\; font-size: 13px\;">&nbsp\;</span></div>\n\n<div style="color: rgb(76\, 76\, 76)\; font-family: Tahoma\, Geneva\, sans-serif\; font-size: 12px\; white-space: pre-wrap\;"><span style="font-size: 13px\; color: rgb(0\, 0\, 0)\;">1.</span><span style="font-size: 9px\; color: rgb(0\, 0\, 0)\;">&nbsp\;&nbsp\;&nbsp\;&nbsp\;</span><span style="color: rgb(0\, 0\, 0)\; font-size: 13px\;">Maintaining a safe and healthy workplace.</span></div>\n\n<div style="color: rgb(76\, 76\, 76)\; font-family: Tahoma\, Geneva\, sans-serif\; font-size: 12px\; white-space: pre-wrap\;"><span style="font-size: 13px\; color: rgb(0\, 0\, 0)\;">2.</span><span style="font-size: 9px\; color: rgb(0\, 0\, 0)\;">&nbsp\;&nbsp\;&nbsp\;&nbsp\;</span><span style="color: rgb(0\, 0\, 0)\; font-size: 13px\;">Managing employees&rsquo\; return to work.</span></div>\n\n<div style="color: rgb(76\, 76\, 76)\; font-family: Tahoma\, Geneva\, sans-serif\; font-size: 12px\; white-space: pre-wrap\;"><span style="font-size: 13px\; color: rgb(0\, 0\, 0)\;">3.</span><span style="font-size: 9px\; color: rgb(0\, 0\, 0)\;">&nbsp\;&nbsp\;&nbsp\;&nbsp\;</span><span style="color: rgb(0\, 0\, 0)\; font-size: 13px\;">What should an employer do if an employee is sick or presenting COVID symptoms?</span></div>\n\n<div style="color: rgb(76\, 76\, 76)\; font-family: Tahoma\, Geneva\, sans-serif\; font-size: 12px\; white-space: pre-wrap\;"><span style="font-size: 13px\; color: rgb(0\, 0\, 0)\;">4.</span><span style="font-size: 9px\; color: rgb(0\, 0\, 0)\;">&nbsp\;&nbsp\;&nbsp\;&nbsp\;</span><span style="color: rgb(0\, 0\, 0)\; font-size: 13px\;">Can an employer require that an employee get tested for COVID?</span></div>\n\n<div style="color: rgb(76\, 76\, 76)\; font-family: Tahoma\, Geneva\, sans-serif\; font-size: 12px\; white-space: pre-wrap\;"><span style="font-size: 13px\; color: rgb(0\, 0\, 0)\;">5.</span><span style="font-size: 9px\; color: rgb(0\, 0\, 0)\;">&nbsp\;&nbsp\;&nbsp\;&nbsp\;</span><span style="color: rgb(0\, 0\, 0)\; font-size: 13px\;">What does an employer do if an employee refuses to attend the workplace?</span></div>\n\n<div style="color: rgb(76\, 76\, 76)\; font-family: Tahoma\, Geneva\, sans-serif\; font-size: 12px\; white-space: pre-wrap\; text-align: justify\;"><span style="color: rgb(0\, 0\, 0)\; font-size: 13px\;">&nbsp\;</span></div>\n\n<div style="color: rgb(76\, 76\, 76)\; font-family: Tahoma\, Geneva\, sans-serif\; font-size: 12px\; white-space: pre-wrap\; text-align: justify\;"><span style="color: rgb(0\, 0\, 0)\; font-size: 13px\;">Don&rsquo\;t miss this </span><span style="color: rgb(0\, 0\, 0)\; font-size: 13px\; font-weight: bold\;">free</span><span style="color: rgb(0\, 0\, 0)\; font-size: 13px\;"> webinar on Tuesday\, July 14 at 10. Pre-registration is required.</span></div>\n\n<div><br />\n&nbsp\;</div>\n
LOCATION:Online Your link to join this event will be emailed 24 hours in advance. Watch out for this email in your inbox.
UID:e.2359.986
SEQUENCE:3
DTSTAMP:20260426T024832Z
URL:https://business.cloverdalechamber.ca/events/details/2020-07-14-legal-considerations-in-the-covid-crisis-986
END:VEVENT

END:VCALENDAR
