BEGIN:VCALENDAR
VERSION:2.0
PRODID:-//ChamberMaster//Event Calendar 2.0//EN
METHOD:PUBLISH
X-PUBLISHED-TTL:P3D
REFRESH-INTERVAL:P3D
CALSCALE:GREGORIAN
BEGIN:VEVENT
DTSTART:20200826T173000Z
DTEND:20200826T183000Z
X-MICROSOFT-CDO-ALLDAYEVENT:FALSE
SUMMARY:2020 08 26 Strengthening Public Health Infrastructure
DESCRIPTION:We have partnered with Competent Boards and Global Compact Network Canada to engage board members and executives in delivering the 2030 Agenda through a series of online panel discussions. This project is funded in part by the Government of Canada's Sustainable Development Goals (SDG) Funding Program.\n\n			  \n		\n	\n\nEsteemed Canadian leaders will discuss:an strengthening the capacity of all countries for national and global health risks be utilised to achieve a sustainable and competitive economy?\n\n\n	How can Canadian business leaders leverage the SDGs?\n\nTo Register:\n\nhttps://us02web.zoom.us/webinar/register/WN_WKYpH7axTFazCJrUdnB7Aw
X-ALT-DESC;FMTTYPE=text/html:<table align="left" border="0" cellpadding="0" cellspacing="0" style="width:100.0%\;border-collapse:collapse\;" width="100%">\n	<tbody>\n		<tr>\n			<td style="padding:0cm 13.5pt 6.75pt 13.5pt\;vertical-align:top\;"><span style="color:#222222\;"><span style="font-family:helvetica\,sans-serif\;">We have partnered with Competent Boards and Global Compact Network Canada to engage board members and executives in delivering the 2030 Agenda through a series of online panel discussions. This project is funded in part by the Government of Canada&rsquo\;s Sustainable Development Goals (SDG) Funding Program.<br />\n			&nbsp\; </span></span></td>\n		</tr>\n	</tbody>\n</table>\nEsteemed Canadian leaders will discuss:an strengthening the capacity of all countries for national and global health risks be utilised to achieve a sustainable and competitive economy?\n\n<ul style="box-sizing: border-box\; margin: 0px 0px 28px 20px\; padding: 0px\; border: 0px\; font-style: normal\; font-variant-ligatures: normal\; font-variant-caps: normal\; font-variant-numeric: inherit\; font-variant-east-asian: inherit\; font-weight: 400\; font-stretch: inherit\; font-size: 16px\; line-height: inherit\; font-family: &quot\;Open Sans&quot\;\; vertical-align: baseline\; list-style: disc\; color: rgb(103\, 103\, 103)\; letter-spacing: normal\; orphans: 2\; text-align: start\; text-indent: 0px\; text-transform: none\; white-space: normal\; widows: 2\; word-spacing: 0px\; -webkit-text-stroke-width: 0px\; background-color: rgb(255\, 255\, 255)\; text-decoration-style: initial\; text-decoration-color: initial\;">\n	<li style="box-sizing: border-box\; margin: 0px\; padding: 0px\; border: 0px\; font: inherit\; vertical-align: baseline\;">How can Canadian business leaders leverage the SDGs?</li>\n</ul>\n<a href="https://us02web.zoom.us/webinar/register/WN_WKYpH7axTFazCJrUdnB7Aw">To Register:<br />\nhttps://us02web.zoom.us/webinar/register/WN_WKYpH7axTFazCJrUdnB7Aw</a><br />\n<br />\n<br />\n<br />\n<br />\n<br />\n<br />\n<br />\n<br />\n&nbsp\;
LOCATION:Virtual Session
UID:e.2359.989
SEQUENCE:3
DTSTAMP:20260426T035946Z
URL:https://business.cloverdalechamber.ca/events/details/2020-08-26-strengthening-public-health-infrastructure-989
END:VEVENT

END:VCALENDAR
