BEGIN:VCALENDAR
VERSION:2.0
PRODID:-//ChamberMaster//Event Calendar 2.0//EN
METHOD:PUBLISH
X-PUBLISHED-TTL:P3D
REFRESH-INTERVAL:P3D
CALSCALE:GREGORIAN
BEGIN:VEVENT
DTSTART:20210218T180000Z
DTEND:20210218T190000Z
X-MICROSOFT-CDO-ALLDAYEVENT:FALSE
SUMMARY:2021 02 18 Leading Through COVID
DESCRIPTION:Join us as we listen to Nicole Scott\,  \n\nManager Employee and Labour Relations for  \n\nEnvision Financial\n\nand learn how to manage Human Resources\n\nissues during these unprecedented times.\n\nThis information session will be followed by an\n\nopportunity to ask questions that pertain to your workplace.\n\n\n\nGuest Speaker:\n\nNicole Scott\n\nManager\n\nEmployee and Labour Relations \n\nEnvision Financial
X-ALT-DESC;FMTTYPE=text/html:<span style="color:#4C4C4C\;"><span style="font-family:tahoma\,sans-serif\;"><span style="font-size:8.5pt\;"><span style="font-size:14px\;">Join us as we listen to Nicole Scott\,&nbsp\; </span></span></span></span><br />\n<span style="font-size:14px\;"><span style="color:#4C4C4C\;"><span style="font-family:tahoma\,sans-serif\;">Manager Employee and Labour Relations for&nbsp\; </span></span></span><br />\n<span style="color:#4C4C4C\;"><span style="font-family:tahoma\,sans-serif\;"><span style="font-size:8.5pt\;"><span style="font-size:14px\;">Envision Financial<br />\nand learn how to manage Human Resources<br />\nissues during these unprecedented times.<br />\nThis information session will be followed by an<br />\nopportunity to ask questions that pertain to your workplace.</span></span></span></span><br />\n<br />\n<strong><span style="font-size:14px\;"><span style="color:#4C4C4C\;"><span style="font-family:tahoma\,sans-serif\;"><span style="font-size:16px\;">Guest Speaker:</span><br />\nNicole Scott</span></span><br />\n<span style="color:#4C4C4C\;"><span style="font-family:tahoma\,sans-serif\;">Manager<br />\nEmployee and Labour Relations </span></span></span></strong><br />\n<span style="color:#4C4C4C\;"><span style="font-family:tahoma\,sans-serif\;"><span style="font-size:8.5pt\;"><strong><span style="font-size:14px\;">Envision Financial </span></strong></span></span></span>
LOCATION:Online Presentation
UID:e.2359.1033
SEQUENCE:3
DTSTAMP:20260423T004650Z
URL:https://business.cloverdalechamber.ca/events/details/2021-02-18-leading-through-covid-1033
END:VEVENT

END:VCALENDAR
