BEGIN:VCALENDAR
VERSION:2.0
PRODID:-//ChamberMaster//Event Calendar 2.0//EN
METHOD:PUBLISH
X-PUBLISHED-TTL:P3D
REFRESH-INTERVAL:P3D
CALSCALE:GREGORIAN
BEGIN:VEVENT
DTSTART:20210915T015000Z
DTEND:20210915T031500Z
X-MICROSOFT-CDO-ALLDAYEVENT:FALSE
SUMMARY:2021 09 14 Federal Election All Candidates Meeting
DESCRIPTION:Meet the Candidates for the ridings of\n\nCloverdale-Langley City & South Surrey-White Rock in the upcoming Federal election.\n\n\nQuestions will be asked by our moderator. \n\nAre you interested in submitting a question for the Candidates?\n\nPlease email to info@cloverdalechamber.ca before September 10th.\n\n\n\nSeats are limited\, so please register to save your spot. \n\nPlease note that we will be following B.C. Public Health order. \n\n\n\nSeptember 7th update:    This is an online event \n\n\n\nBrought to you by the Cloverdale District Chamber of Commerce & the Cloverdale BIA
X-ALT-DESC;FMTTYPE=text/html:<h1>Meet the Candidates for the ridings of<br />\nCloverdale-Langley City &amp\; South Surrey-White Rock in the upcoming Federal election.</h1>\n<br />\nQuestions will be asked by our moderator.&nbsp\;<br />\nAre you interested in submitting a question for the Candidates?<br />\nPlease email to <a href="mailto:info@cloverdalechamber.ca ?subject=Mayoral%20Candidate%20Question">info@cloverdalechamber.ca</a>&nbsp\;before September 10th.<br />\n<br />\n<strong><del>Seats are limited\, so please register to save your spot.&nbsp\;<br />\nPlease note that we will be following B.C. Public Health order.&nbsp\;</del></strong><br />\n<br />\n<span style="color:#FF0000\;"><span style="font-size:16px\;"><strong>September 7th update:&nbsp\;&nbsp\;&nbsp\; This is an online event </strong></span></span><br />\n<br />\nBrought to you by the Cloverdale District Chamber of Commerce &amp\; the Cloverdale BIA
LOCATION:Clova Theatre Update: Presented live via ZOOM
UID:e.2359.1071
SEQUENCE:3
DTSTAMP:20260419T145536Z
URL:https://business.cloverdalechamber.ca/events/details/2021-09-14-federal-election-all-candidates-meeting-1071
END:VEVENT

END:VCALENDAR
