BEGIN:VCALENDAR
VERSION:2.0
PRODID:-//ChamberMaster//Event Calendar 2.0//EN
METHOD:PUBLISH
X-PUBLISHED-TTL:P3D
REFRESH-INTERVAL:P3D
CALSCALE:GREGORIAN
BEGIN:VEVENT
DTSTART:20220121T203000Z
DTEND:20220121T213000Z
X-MICROSOFT-CDO-ALLDAYEVENT:FALSE
SUMMARY:2022 01 21 MLA: Hon. Adrian Dix - Cloverdale Hospital Update - Virtual Now Jan 21
DESCRIPTION:New date: Now January 21st.\n\n\n\nGuest Speaker:    MLA: Hon. Adrian Dix\n\n                                Health Minister\n\n \nThe New Cloverdale Hospital in Surrey is entering it's second phase towards it's eventual construction. Requests for qualifications (RFQ) have been requested. The RFQ stage offers companies the chance to express interest in building the new hospital.\n\n \n\n The hospital will have 168 in-patient beds\, four procedure rooms and emergency department with 55 treatment spaces\, a medical imaging department\, a pharmacy and laboratory.
X-ALT-DESC;FMTTYPE=text/html:<span style="font-size:16px\;"><span style="font-family:tahoma\;"><strong>New date: Now January 21st.<br />\n<br />\nGuest Speaker:</strong></span><strong>&nbsp\;&nbsp\;</strong>&nbsp\; <span style="font-family:tahoma\;">MLA: Hon. Adrian Dix</span><br />\n&nbsp\; &nbsp\; &nbsp\; &nbsp\; &nbsp\; &nbsp\; &nbsp\; &nbsp\; &nbsp\; &nbsp\; &nbsp\; &nbsp\; &nbsp\; &nbsp\; &nbsp\; &nbsp\; <span style="font-family:tahoma\;">Health Minister</span></span><br />\n&nbsp\;\n<div style="color: rgb(64\, 63\, 66)\; font-family: Arial\, Verdana\, Helvetica\, sans-serif\; font-size: 12px\; white-space: pre-wrap\; text-align: justify\;"><span style="font-size:14px\;"><span style="color: rgb(0\, 0\, 0)\;">The New Cloverdale Hospital in Surrey is entering it&#39\;s second phase towards it&#39\;s eventual construction. Requests for qualifications (RFQ) have been requested. The RFQ stage offers companies the chance to express interest in building the new hospital.</span></span></div>\n\n<div style="color: rgb(64\, 63\, 66)\; font-family: Arial\, Verdana\, Helvetica\, sans-serif\; font-size: 12px\; white-space: pre-wrap\; text-align: justify\;">&nbsp\;</div>\n\n<div style="color: rgb(64\, 63\, 66)\; font-family: Arial\, Verdana\, Helvetica\, sans-serif\; font-size: 12px\; white-space: pre-wrap\; text-align: justify\;"><span style="font-size:14px\;"><span style="color: rgb(0\, 0\, 0)\;">&#65279\;The hospital will have 168 in-patient beds\, four procedure rooms and emergency department with 55 treatment spaces\, a medical imaging department\, a pharmacy and laboratory.</span></span></div>\n
LOCATION:Via Zoom
UID:e.2359.1079
SEQUENCE:3
DTSTAMP:20260424T171943Z
URL:https://business.cloverdalechamber.ca/events/details/2022-01-21-mla-hon-adrian-dix-cloverdale-hospital-update-virtual-now-jan-21-1079
END:VEVENT

END:VCALENDAR
