BEGIN:VCALENDAR
VERSION:2.0
PRODID:-//ChamberMaster//Event Calendar 2.0//EN
METHOD:PUBLISH
X-PUBLISHED-TTL:P3D
REFRESH-INTERVAL:P3D
CALSCALE:GREGORIAN
BEGIN:VEVENT
DTSTART:20230419T183000Z
DTEND:20230419T203000Z
X-MICROSOFT-CDO-ALLDAYEVENT:FALSE
SUMMARY:2023 04 19 April Luncheon with Peter Legge
DESCRIPTION:Guest Speaker:    Peter Legge\n\n\n\nPrinciples for Successful Salespeople\n\n \n\nJoin us for our April Luncheon and learn the Principles for Successful Salespeople from Dr. Peter Legge\, a living legacy of one of Canada?s true entrepreneurial success stories.   \n\nPeter Legge is an internationally acclaimed professional speaker\, a bestselling author and former Chairman & CEO of the largest\, independently owned media publishing company in Western Canada ? Canada Wide Media Limited.  \n\n \n\nRegister now for this exclusive learning opportunity. Come ready for networking and take notes!!!
X-ALT-DESC;FMTTYPE=text/html:<br />\n<span style="font-size:14px\;"><span style="font-size:18px\;"><strong>Guest Speaker:</strong></span></span><span style="font-size:18px\;"><strong>&nbsp\;&nbsp\;&nbsp\;&nbsp\;Peter Legge</strong></span><br />\n<br />\n<span style="font-size:16px\;"><strong><span style="color:black\;"><span style="font-family:arial\,sans-serif\;">Principles for Successful Salespeople</span></span></strong></span><br />\n&nbsp\;<br />\n<span style="font-size:14px\;"><span style="color:black\;"><span style="font-family:arial\,sans-serif\;">Join us for our April Luncheon and learn the Principles for Successful Salespeople from Dr. Peter Legge\, </span></span><span style="font-family:arial\,sans-serif\;">a living legacy of one of Canada?s true entrepreneurial success stories.&nbsp\;&nbsp\; </span><br />\n<span style="font-family:arial\,sans-serif\;">Peter Legge is an internationally acclaimed professional speaker\, a bestselling author and former Chairman &amp\; CEO of the largest\, independently owned media publishing company in Western Canada ? Canada Wide Media Limited.&nbsp\; </span><br />\n&nbsp\;<br />\n<span style="font-family:arial\,sans-serif\;">Register now for this exclusive learning opportunity. Come ready for networking and take notes!!!</span></span><br />\n&nbsp\;
LOCATION:Elements Casino - Surrey Dragon Lounge 17750 60th Avenue Surrey
UID:e.2359.1140
SEQUENCE:3
DTSTAMP:20260421T081458Z
URL:https://business.cloverdalechamber.ca/events/details/2023-04-19-april-luncheon-with-peter-legge-1140
END:VEVENT

END:VCALENDAR
