BEGIN:VCALENDAR
VERSION:2.0
PRODID:-//ChamberMaster//Event Calendar 2.0//EN
METHOD:PUBLISH
X-PUBLISHED-TTL:P3D
REFRESH-INTERVAL:P3D
CALSCALE:GREGORIAN
BEGIN:VEVENT
DTSTART:20260219T193000Z
DTEND:20260219T210000Z
X-MICROSOFT-CDO-ALLDAYEVENT:FALSE
SUMMARY:2026 02 19 Impact of Transit & Infrastructure Projects with Tore Jacobsen
DESCRIPTION:Join us for an engaging Chamber Networking Luncheon featuring keynote speaker Tore Jacobsen from the Fraser Valley Real Estate Board. Tore will explore the Impact of Transit & Infrastructure Projects\, sharing insights on how new transit lines\, road improvements\, and major infrastructure investments are shaping property values and creating new business opportunities across our region. This luncheon offers a valuable opportunity to connect with fellow business leaders while gaining a clearer understanding of how upcoming developments can influence growth\, investment\, and long-term planning.
X-ALT-DESC;FMTTYPE=text/html:<div><span style="font-size: 11pt"><span class="x_2059323973font" style="font-family: verdana"><span class="x_2059323973size" style="font-size: 16px">Join us for an engaging Chamber Networking Luncheon featuring keynote speaker <strong>Tore Jacobsen</strong> from the <strong>Fraser Valley Real Estate Board</strong>. Tore will explore the </span></span><b><span class="x_2059323973font" style="font-family: verdana"><span class="x_2059323973size" style="font-size: 16px">Impact of Transit &amp\; Infrastructure Projects</span></span></b><span class="x_2059323973font" style="font-family: verdana"><span class="x_2059323973size" style="font-size: 16px">\, sharing insights on how new transit lines\, road improvements\, and major infrastructure investments are shaping property values and creating new business opportunities across our region. This luncheon offers a valuable opportunity to connect with fellow business leaders while gaining a clearer understanding of how upcoming developments can influence growth\, investment\, and long-term planning.&nbsp\;</span></span></span></div>\n\n<div class="x_2059323973zmail_signature_below">\n<div id="">\n<div>&nbsp\;</div>\n</div>\n</div>\n
LOCATION:Elements Casino 17755 60 Avenue\, Surrey
UID:e.2359.1356
SEQUENCE:3
DTSTAMP:20260421T100141Z
URL:https://business.cloverdalechamber.ca/events/details/2026-02-19-impact-of-transit-infrastructure-projects-with-tore-jacobsen-1356
END:VEVENT

END:VCALENDAR
