BEGIN:VCALENDAR
VERSION:2.0
PRODID:-//ChamberMaster//Event Calendar 2.0//EN
METHOD:PUBLISH
X-PUBLISHED-TTL:P3D
REFRESH-INTERVAL:P3D
CALSCALE:GREGORIAN
BEGIN:VEVENT
DTSTART:20260310T003000Z
DTEND:20260310T023000Z
X-MICROSOFT-CDO-ALLDAYEVENT:FALSE
SUMMARY:2026 03 09 Empowered to Drive - Auto Basics & Business Networking
DESCRIPTION:In celebration of International Women's Day\, join us for an empowering event designed to connect\, inspire\, and build confidence.  This interactive session will teach practical car and maintenance basics while bringing women together to network\, share experiences\, and support one another.  Whether you're looking to gain new skills or grow your professional circle this is a welcome space to learn\, connect and be inspired.
X-ALT-DESC;FMTTYPE=text/html:<span style="font-size:14px\;">In celebration of International Women&#39\;s Day\, join us for an empowering event designed to connect\, inspire\, and build confidence.&nbsp\; This interactive session will teach practical car and maintenance basics while bringing women together to network\, share experiences\, and support one another.&nbsp\; Whether you&#39\;re looking to gain new skills or grow your professional circle this is a welcome space to learn\, connect and be inspired.&nbsp\;&nbsp\;</span>
LOCATION:Big O Tires Cloverdale Dinner at Rusty's Pub
UID:e.2359.1357
SEQUENCE:3
DTSTAMP:20260426T035948Z
URL:https://business.cloverdalechamber.ca/events/details/2026-03-09-empowered-to-drive-auto-basics-business-networking-1357
END:VEVENT

END:VCALENDAR
